BEGIN:VCALENDAR
VERSION:2.0
METHOD:PUBLISH
BEGIN:VEVENT
DTSTART:20240427T120000
DTEND:20240427T140000
LOCATION:przystanek tramwajowy "Plac Inwalidów" plac Inwalidów  Kraków
TRANSP: OPAQUE
SEQUENCE:0
UID:
DTSTAMP:20260423T050248Z
SUMMARY:Wycieczka po Krakowie "Plac Inwalidów" | Tour of Krakow "Invalids Square" | Екскурсія Краковом "Площа Інвалідів"
DESCRIPTION:Grupa wiekowa: 18+Język prowadzenia: ukraińskiPL | Data wycieczki: 27.04.2024Czas zbiórki: 12.00Miejsce spotkania: przystanek tramwajowy Plac InwalidówENG | Date of the tour: 27.04.2024Meeting......
URL:https://app.evenea.pl/event/wycieczka2704/
PRIORITY:1
CLASS:PUBLIC
END:VEVENT
END:VCALENDAR
