BEGIN:VCALENDAR
VERSION:2.0
METHOD:PUBLISH
BEGIN:VEVENT
DTSTART:20240929T160000
DTEND:20240929T180000
LOCATION:Centrum Handlowe Korona przystanek tramwajowy "Korona"  Kraków
TRANSP: OPAQUE
SEQUENCE:0
UID:
DTSTAMP:20260423T053426Z
SUMMARY:Wycieczka po Krakowie "Podgórze. Historia. Legendy" | Tour of Krakow Podgórze History. Legends" | Екскурсія Краковом "Podgórze. Історія. Легенди"
DESCRIPTION:Grupa wiekowa: 18+Język prowadzenia: ukraińskiPL | Data wycieczki: 29.09.2024Czas zbiórki: 16.00Miejsce spotkania: przystanek tramwajowy "Korona"ENG | Date of the tour: 29.09.2024Meeting time:......
URL:https://app.evenea.pl/event/wycieczka2909/
PRIORITY:1
CLASS:PUBLIC
END:VEVENT
END:VCALENDAR
