BEGIN:VCALENDAR
VERSION:2.0
METHOD:PUBLISH
BEGIN:VEVENT
DTSTART:20210616T180000
DTEND:20210616T180000
LOCATION:Filia nr 7 Miejskiej Bibliotek Publicznej w Szczecinie plac Matki Teresy z Kalkuty 8  Szczecin
TRANSP: OPAQUE
SEQUENCE:0
UID:
DTSTAMP:20260419T162006Z
SUMMARY:Do czego potrzebne jest nam Pomorze i jego historia? [wykład]
DESCRIPTION:16 czerwca (środa) o godz. 18.00 zapraszamy na wykład Pawła Migdalskiego inaugurujący projekt "Pomerania incognita. Spotkania z pomorską przeszłością". Wydarzenie odbędzie się w formule......
URL:https://app.evenea.pl/event/wyklad-pomorze/
PRIORITY:1
CLASS:PUBLIC
END:VEVENT
END:VCALENDAR
