BEGIN:VCALENDAR
VERSION:2.0
METHOD:PUBLISH
BEGIN:VEVENT
DTSTART:20250905T170000
DTEND:20250905T170000
LOCATION:Akademia Rycerska Chojnowska 2  Legnica
TRANSP: OPAQUE
SEQUENCE:0
UID:
DTSTAMP:20260424T105047Z
SUMMARY:Wykład dr Daniela Wojtuckiego
DESCRIPTION:Legnica. Zamek Piastowski. Dziedziniec, pod którym od XII wieku spoczywają ludzkie szczątki…Wśród zwyczajnych pochówków archeolodzy natrafili na jeden wyjątkowy - ułożony w sposób......
URL:https://app.evenea.pl/event/wyklad-wampiry/
PRIORITY:1
CLASS:PUBLIC
END:VEVENT
END:VCALENDAR
