BEGIN:VCALENDAR
VERSION:2.0
METHOD:PUBLISH
BEGIN:VEVENT
DTSTART:20250903T170000
DTEND:20250903T190000
LOCATION:Miejsce Aktywności Lokalnej Szerokie Możliwości ul. Nałęczowska 175  Lublin
TRANSP: OPAQUE
SEQUENCE:0
UID:
DTSTAMP:20260420T114801Z
SUMMARY:Wymarzone miasto - warsztaty architektoniczno-urbanistyczne dla dzieci
DESCRIPTION:Jak dzieci zaprojektowałby miasto?🏙️🏙️🏙️ Sprawdźmy to! Zapraszamy dzieci w wieku ⭐5-10 lat⭐ na warsztaty, podczas których zbudujemy wielkoformatową makietę miasta marzeń.......
URL:https://app.evenea.pl/event/wymarzonemiasto/
PRIORITY:1
CLASS:PUBLIC
END:VEVENT
END:VCALENDAR
