BEGIN:VCALENDAR
VERSION:2.0
METHOD:PUBLISH
BEGIN:VEVENT
DTSTART:20240705T170000
DTEND:20240705T190000
LOCATION:Centrum Edukacji i Wsparcia os. Górali 24  Kraków
TRANSP: OPAQUE
SEQUENCE:0
UID:
DTSTAMP:20260423T234304Z
SUMMARY:Wakacyjna wymianka ubrań | Summer clothes swap | Літній обмін одягом
DESCRIPTION:Grupa wiekowa: 13+Język prowadzenia: polskiPL | Masz rzeczy, których nie za bardzo nosisz? Rozmiar już nie pasuje? Wciąż nie masz okazji lub nie wiesz, z czym to połączyć? Podoba Ci się,......
URL:https://app.evenea.pl/event/wymiankaubran/
PRIORITY:1
CLASS:PUBLIC
END:VEVENT
END:VCALENDAR
