BEGIN:VCALENDAR
VERSION:2.0
METHOD:PUBLISH
BEGIN:VEVENT
DTSTART:20231206T000000
DTEND:20240623T000000
LOCATION:   
TRANSP: OPAQUE
SEQUENCE:0
UID:
DTSTAMP:20260421T003850Z
SUMMARY:Wypożyczalnia Escape roomu "Otwórz się na globalne wyzwania" - 2023/24
DESCRIPTION:Wypożyczalnia gier edukacji globalnej to projekt Polskiej Akcji Humanitarnej skierowany do instytucji edukacyjnych - szkół, bibliotek i innych placówek. Dwie wielkoformatowe gry i escape room,......
URL:https://app.evenea.pl/event/wypozyczalnia-escape-23-24/
PRIORITY:1
CLASS:PUBLIC
END:VEVENT
END:VCALENDAR
