BEGIN:VCALENDAR
VERSION:2.0
METHOD:PUBLISH
BEGIN:VEVENT
DTSTART:20210619T110000
DTEND:20210619T140000
LOCATION:Polana przy kortach tenisowych Nakielska 70  Bydgoszcz
TRANSP: OPAQUE
SEQUENCE:0
UID:
DTSTAMP:20260423T152641Z
SUMMARY:Wyprzedaż Pogarażowa
DESCRIPTION:Rada Osiedla Wilczak-Jary zaprasza na czwartą już edycję Wyprzedaży Pogarażowej na osiedlu Wilczak.Jeżeli posiadacie państwo zbędne wam przedmioty, które walają się po kątach a mogą......
URL:https://app.evenea.pl/event/wyprzedazpogarazowaiv/
PRIORITY:1
CLASS:PUBLIC
END:VEVENT
END:VCALENDAR
