BEGIN:VCALENDAR
VERSION:2.0
METHOD:PUBLISH
BEGIN:VEVENT
DTSTART:20240124T160000
DTEND:20240124T180000
LOCATION:Miejski Ośrodek Kultury w Wysokiem Mazowieckiem ul. Ludowa 19  Wysokie Mazowieckie
TRANSP: OPAQUE
SEQUENCE:0
UID:
DTSTAMP:20260420T174407Z
SUMMARY:Bezpłatne szkolenie dla przedsiębiorców "Bądź gotowy na KSeF" 24.01.2024r. WYSOKIE MAZOWIECKIE
DESCRIPTION:Zapraszamy na bezpłatne szkolenie dla przedsiębiorców w ramach programu "Bądź Gotowy na KSeF" pod patronatem honorowym Ministerstwa Finansów w Wysokiem Mazowieckiem.Czy prowadzisz swoją......
URL:https://app.evenea.pl/event/wysmaz-ksef/
PRIORITY:1
CLASS:PUBLIC
END:VEVENT
END:VCALENDAR
