BEGIN:VCALENDAR
VERSION:2.0
METHOD:PUBLISH
BEGIN:VEVENT
DTSTART:20220305T190000
DTEND:20220305T200000
LOCATION:Galeria Krużganek w Dobre Miejsce - Katolickie Centrum Kultury Dewajtis 3 (wej.A)  Warszawa
TRANSP: OPAQUE
SEQUENCE:0
UID:
DTSTAMP:20260422T133740Z
SUMMARY:Wernisaż wystawy Anny Foryckiej-Putiatyckiej - "Gorliwość o dom Twój pochłonie Mnie"
DESCRIPTION:Dobre Miejsce - Katolickie Centrum Kultury serdecznie zaprasza na wystawę autorstwa Anny Foryckiej-Putiatyckiej pod tytułem "Gorliwość o dom Twój pochłonie Mnie". Wystawa zawiera pełne......
URL:https://app.evenea.pl/event/wystawaannyforyckiejputiatyckiej/
PRIORITY:1
CLASS:PUBLIC
END:VEVENT
END:VCALENDAR
