BEGIN:VCALENDAR
VERSION:2.0
METHOD:PUBLISH
BEGIN:VEVENT
DTSTART:20190720T090000
DTEND:20190720T090000
LOCATION:Grupa zamknięta na FB - Wyzwanie RandkowaNIE   
TRANSP: OPAQUE
SEQUENCE:0
UID:
DTSTAMP:20260421T150529Z
SUMMARY:Wakacyjne wyzwanie, by rozpocząć randkowanie
DESCRIPTION:Jesteś singielką, ale chciałabyś to zmienić?Mimo to rzadko, lub prawie wcale nie chodzisz na randki, bo są one dla Ciebie frustrujące a do portali randkowych trudno Ci się......
URL:https://app.evenea.pl/event/wyzwanie-randkowanie/
PRIORITY:1
CLASS:PUBLIC
END:VEVENT
END:VCALENDAR
