BEGIN:VCALENDAR
VERSION:2.0
METHOD:PUBLISH
BEGIN:VEVENT
DTSTART:20211027T100000
DTEND:20211027T165000
LOCATION:   
TRANSP: OPAQUE
SEQUENCE:0
UID:
DTSTAMP:20260424T054323Z
SUMMARY:XI Konferencja Rada Nadzorcza
DESCRIPTION:Dodaj opis wydarzenia...
URL:https://app.evenea.pl/event/xi-konferencja-rada-nadzorcza/
PRIORITY:1
CLASS:PUBLIC
END:VEVENT
END:VCALENDAR
