BEGIN:VCALENDAR
VERSION:2.0
METHOD:PUBLISH
BEGIN:VEVENT
DTSTART:20240327T100000
DTEND:20240327T100000
LOCATION:szkolenie online   
TRANSP: OPAQUE
SEQUENCE:0
UID:
DTSTAMP:20260420T091720Z
SUMMARY:Opening and running a business - introduction to the topic of "your own company" in Poland
DESCRIPTION:We invite you to the training titled: Opening and running a business - introduction to the topic of "your own company" in Poland. Training programme:1. Introduction to the topic of "your own......
URL:https://app.evenea.pl/event/yourowncompany24/
PRIORITY:1
CLASS:PUBLIC
END:VEVENT
END:VCALENDAR
