BEGIN:VCALENDAR
VERSION:2.0
METHOD:PUBLISH
BEGIN:VEVENT
DTSTART:20141206T100000
DTEND:20141206T180000
LOCATION:Hala Torwar Łazienkowska 6a  Warszawa
TRANSP: OPAQUE
SEQUENCE:0
UID:
DTSTAMP:20260420T013804Z
SUMMARY:YouTube i YouTuberzy w komunikacji marki
DESCRIPTION:Wejściówki na konferencję umożliwiają udział w całym programie Orange Video Fest by LifeTube, szczegóły tu: http://orangevideofest.pl/\n\nZapraszamy na konferencję dla marketerów w......
URL:https://app.evenea.pl/event/youtube-konferencja/
PRIORITY:1
CLASS:PUBLIC
END:VEVENT
END:VCALENDAR
