BEGIN:VCALENDAR
VERSION:2.0
METHOD:PUBLISH
BEGIN:VEVENT
DTSTART:20240716T170000
DTEND:20240716T200000
LOCATION:Centrum Edukacji i Wsparcia os. Górali 24  Kraków
TRANSP: OPAQUE
SEQUENCE:0
UID:
DTSTAMP:20260423T235549Z
SUMMARY:Zabawki dla zwierząt ze schroniska! | Toys for shelter animals! | Іграшки для тварин з притулку!
DESCRIPTION:Grupa wiekowa: 13+Język prowadzenia: polskiPL | By wesprzeć zwierzęta z krakowskiego schroniska wykonamy recyklingowe zabawki ze szmatek i starych ubrań. W planach również prelekcja.......
URL:https://app.evenea.pl/event/zabawkidlazwierzat/
PRIORITY:1
CLASS:PUBLIC
END:VEVENT
END:VCALENDAR
