BEGIN:VCALENDAR
VERSION:2.0
METHOD:PUBLISH
BEGIN:VEVENT
DTSTART:20210426T140000
DTEND:20210426T144500
LOCATION:inQUBE Uniwersytecki Inkubator Przedsiębiorczości Wielka 67  Wrocław
TRANSP: OPAQUE
SEQUENCE:0
UID:
DTSTAMP:20260425T164058Z
SUMMARY:Zachęty podatkowe dla startupów technologicznych - webinar
DESCRIPTION:Tematyka spotkaniaUlga badawczo-rozwojowa w branży technologicznej:istota ulgiwydatki kwalifikowanejak skorzystać z ulgi?IP Box w branży technologicznej czym jest IP Box?dla kogo jest IP Box?jak......
URL:https://app.evenea.pl/event/zachetypodatkowe/
PRIORITY:1
CLASS:PUBLIC
END:VEVENT
END:VCALENDAR
