BEGIN:VCALENDAR
VERSION:2.0
METHOD:PUBLISH
BEGIN:VEVENT
DTSTART:20240710T120000
DTEND:20240710T160000
LOCATION:Miejsce Otwarte. Centrum Integracji Międzykulturowej. Kraków os. Górali 24  Kraków
TRANSP: OPAQUE
SEQUENCE:0
UID:
DTSTAMP:20260423T235148Z
SUMMARY:Zajęcia wakacyjne dla dzieci (7-11 lat) | Vacation activities for children (7-11 y.o) | Літні заняття для дітей (7-11 р.)
DESCRIPTION:Grupa wiekowa: 7-11Język prowadzenia: angielski, ukraiński, polskiPLJuż od przyszłego tygodnia ruszamy z dodatkowymi wakacyjnymi zajęciami dla dzieci w wieku 7-11 lat! Spotykamy się we......
URL:https://app.evenea.pl/event/zajeciadladzieci1007/
PRIORITY:1
CLASS:PUBLIC
END:VEVENT
END:VCALENDAR
