BEGIN:VCALENDAR
VERSION:2.0
METHOD:PUBLISH
BEGIN:VEVENT
DTSTART:20240522T100000
DTEND:20240522T113000
LOCATION:Miejsce Otwarte. Centrum Integracji Międzykulturowej. Kraków, Kraków os. Górali 24  Kraków
TRANSP: OPAQUE
SEQUENCE:0
UID:
DTSTAMP:20260423T050535Z
SUMMARY:Jak współpracować z ciałem w czasie porodu. Cykl zajęć dla kobiet w ciąży Błękitny Poród | Як співпрацювати з тілом під час пологів. Серія занять для вагітних - "Błękitny Poród"
DESCRIPTION:Grupa wiekowa: 18+Język prowadzenia: polski, tłumaczenie na język ukraińskiPL/ENG/UACykl zajęć dla kobiet w ciąży - Przygotowanie do Porodu z Pewnością i SpokojemCzy martwisz się......
URL:https://app.evenea.pl/event/zajeciadlakobietwciazy2205/
PRIORITY:1
CLASS:PUBLIC
END:VEVENT
END:VCALENDAR
