BEGIN:VCALENDAR
VERSION:2.0
METHOD:PUBLISH
BEGIN:VEVENT
DTSTART:20240529T100000
DTEND:20240529T113000
LOCATION:Miejsce Otwarte. Centrum Integracji Międzykulturowej. Kraków, Kraków os. Górali 24  Kraków
TRANSP: OPAQUE
SEQUENCE:0
UID:
DTSTAMP:20260423T050535Z
SUMMARY:Jak zabrać spokój na salę porodową. Cykl zajęć dla kobiet w ciąży - Błękitny Poród | Як принести спокій у пологовий зал. Серія занять для вагітних - "Błękitny Poród"
DESCRIPTION:Grupa wiekowa: 18+Język prowadzenia: polski, tłumaczenie na język ukraińskiPL/ENG/UACykl zajęć dla kobiet w ciąży - Przygotowanie do Porodu z Pewnością i SpokojemCzy martwisz się......
URL:https://app.evenea.pl/event/zajeciadlakobietwciazy2905/
PRIORITY:1
CLASS:PUBLIC
END:VEVENT
END:VCALENDAR
