BEGIN:VCALENDAR
VERSION:2.0
METHOD:PUBLISH
BEGIN:VEVENT
DTSTART:20240410T170000
DTEND:20240410T190000
LOCATION:Miejsce Otwarte. Centrum Integracji Międzykulturowej. Kraków os. Górali 24  Kraków
TRANSP: OPAQUE
SEQUENCE:0
UID:
DTSTAMP:20260423T050335Z
SUMMARY:Zajęcia kreatywne z Alicją - Zrób swoją świeczkę (12+) | Creative activities with Alicja - Make your own candle (12+)| Творчі майстер-класи з Аліцією - Зроби свою свічку (12+)
DESCRIPTION:Grupa wiekowa: 12+ lat Język prowadzenia: polskiStworzymy niepowtarzalne świece z wosku sojowego w słoikach, z dodatkiem różnych olejków zapachowych. A dlaczego wosk sojowy? Bo jest w pełni......
URL:https://app.evenea.pl/event/zajeciakreatywne1004/
PRIORITY:1
CLASS:PUBLIC
END:VEVENT
END:VCALENDAR
