BEGIN:VCALENDAR
VERSION:2.0
METHOD:PUBLISH
BEGIN:VEVENT
DTSTART:20240424T170000
DTEND:20240424T190000
LOCATION:Miejsce Otwarte. Centrum Integracji Międzykulturowej. Kraków os. Górali 24  Kraków
TRANSP: OPAQUE
SEQUENCE:0
UID:
DTSTAMP:20260423T050346Z
SUMMARY:Zajęcia kreatywne z Alicją - podkładka z papierowej wikliny (12+) | Creative activities with Alicja - paper wicker coaster (12+) | Творчі майстер-класи з Аліцією - паперова плетена підставка (12+)
DESCRIPTION:Grupa wiekowa: 12+ lat Język prowadzenia: polskiZapraszamy na warsztaty tworzenia podkładek z wikliny papierowej! Wiklina papierowa to ostatnio coraz bardziej popularny i solidny sposób......
URL:https://app.evenea.pl/event/zajeciakreatywne2404/
PRIORITY:1
CLASS:PUBLIC
END:VEVENT
END:VCALENDAR
