BEGIN:VCALENDAR
VERSION:2.0
METHOD:PUBLISH
BEGIN:VEVENT
DTSTART:20240926T163000
DTEND:20240926T173000
LOCATION:Miejsce Otwarte. Centrum Integracji Międzykulturowej. Kraków os. Górali 24  Kraków
TRANSP: OPAQUE
SEQUENCE:0
UID:
DTSTAMP:20260423T053614Z
SUMMARY:Zajęcia muzyczno-rytmiczne dla dzieci (6-10 lat) | Music and rhythm classes for children (6-10 years old) | Музичні та ритмічні заняття для дітей (6-10 років)
DESCRIPTION:Grupa wiekowa: 6-10Język prowadzenia: ukraińskiPLPod okiem doświadczonego pedagoga i muzyka, Oleny Markhevy, dzieci będą uczestniczyć w interaktywnych grach muzycznych i ćwiczeniach, które......
URL:https://app.evenea.pl/event/zajeciamuzyczne2609/
PRIORITY:1
CLASS:PUBLIC
END:VEVENT
END:VCALENDAR
