BEGIN:VCALENDAR
VERSION:2.0
METHOD:PUBLISH
BEGIN:VEVENT
DTSTART:20220513T170000
DTEND:20220513T170000
LOCATION:filia nr 7 Miejskiej Biblioteki Publicznej w Szczecinie pl. Matki Teresy z Kalkuty 8  Szczecin
TRANSP: OPAQUE
SEQUENCE:0
UID:
DTSTAMP:20260422T202249Z
SUMMARY:Warsztaty detektywistyczne dla dzieci z Beatą Witoń [Dni Skandynawskie]
DESCRIPTION:13 maja (piątek) o godz. 17:00 Beata Witoń z wydawnictwa Zakamarki zaprasza młodych czytelników (6-10 lat) na warsztaty inspirowane serią książek Martina Widmarka i Heleny Willis "Biuro......
URL:https://app.evenea.pl/event/zakamarki/
PRIORITY:1
CLASS:PUBLIC
END:VEVENT
END:VCALENDAR
