BEGIN:VCALENDAR
VERSION:2.0
METHOD:PUBLISH
BEGIN:VEVENT
DTSTART:20200218T180000
DTEND:20200218T180000
LOCATION:Akademia Leona Koźmińskiego ul. Jagiellońska 57/59  Warszawa
TRANSP: OPAQUE
SEQUENCE:0
UID:
DTSTAMP:20260421T161244Z
SUMMARY:Jak założyć własny startup i odnieść sukces? Spotkanie z CEO Zapakuj.to Wojtkiem Sadowskim.
DESCRIPTION:Zmęczony po sesji? Nowy semestr, nowy Ty?A może szukasz inspiracji? 🧐Zapraszamy na spotkanie z kategorii tych nie do ominięcia! Wojtek Sadowski, CEO Zapakuj.to, opowie co zrobić, aby Wasz......
URL:https://app.evenea.pl/event/zapakujto/
PRIORITY:1
CLASS:PUBLIC
END:VEVENT
END:VCALENDAR
