BEGIN:VCALENDAR
VERSION:2.0
METHOD:PUBLISH
BEGIN:VEVENT
DTSTART:20210607T180000
DTEND:20210607T180000
LOCATION:filia nr 7 Miejskiej Biblioteki Publicznej w Szczecinie pl. Matki Teresy z Kalkuty 8  Szczecin
TRANSP: OPAQUE
SEQUENCE:0
UID:
DTSTAMP:20260419T161752Z
SUMMARY:Piotr Zaremba - biografia do odsłonięcia
DESCRIPTION:7 czerwca (poniedziałek) o godz. 18.00 zapraszamy na spotkanie z prof. Erykiem Krasuckim i Pawłem Zarembą poświęcone Piotrowi Zarembie. Rozmowę poprowadzi Katarzyna Rembacka.Wydarzenie......
URL:https://app.evenea.pl/event/zaremba/
PRIORITY:1
CLASS:PUBLIC
END:VEVENT
END:VCALENDAR
