BEGIN:VCALENDAR
VERSION:2.0
METHOD:PUBLISH
BEGIN:VEVENT
DTSTART:20260225T090000
DTEND:20260226T170000
LOCATION:Centrum Konferencyjno-Szkoleniowe Gdańskiego Parku Naukowo-Technologicznego Trzy Lipy 3  Gdańsk
TRANSP: OPAQUE
SEQUENCE:0
UID:
DTSTAMP:20260422T193453Z
SUMMARY:Zarządzanie zespołem czyli ABC menedżera - szkolenie z cyklu Akademia Lidera (GDAŃSK)
DESCRIPTION:Według danych Gallupa od lidera zależy aż 70% zaangażowania zespołu.Jednocześnie, nawet 80% z niech nie zostało przygotowanych do roli lidera w obecnym świecie VUCA i BANI,......
URL:https://app.evenea.pl/event/zarzadzanie-zespolem-g1/
PRIORITY:1
CLASS:PUBLIC
END:VEVENT
END:VCALENDAR
