BEGIN:VCALENDAR
VERSION:2.0
METHOD:PUBLISH
BEGIN:VEVENT
DTSTART:20250710T110000
DTEND:20250710T120000
LOCATION:online   
TRANSP: OPAQUE
SEQUENCE:0
UID:
DTSTAMP:20260421T101311Z
SUMMARY:Zarządzanie startupem i innowacyjną firmą - konsultacje online
DESCRIPTION:Zapraszamy na indywidualne konsultacje które łączą zarządzanie startupem z praktycznym podejściem do rozwoju innowacyjnej firmy.Podczas sesji omówisz między innymi:Kluczowe wyzwania......
URL:https://app.evenea.pl/event/zarzadzaniestartupemlipiec25/
PRIORITY:1
CLASS:PUBLIC
END:VEVENT
END:VCALENDAR
