BEGIN:VCALENDAR
VERSION:2.0
METHOD:PUBLISH
BEGIN:VEVENT
DTSTART:20251213T100000
DTEND:20251213T120000
LOCATION:Miejskie Hale Targowe- Box 320, podziemia Hali Łukowej, wejście od ul. 3 Maja (obok Muzeum Kameralnego) Wójta Radtkego 36  81-355 Gdynia
TRANSP: OPAQUE
SEQUENCE:0
UID:
DTSTAMP:20260423T175322Z
SUMMARY:Świąteczne Hale- warsztat "Świąteczne Zawieszki z Drewna" Olga Obst
DESCRIPTION:Świąteczne Zawieszki z Drewna Sobota, 13.12.2025, godz. 10:00-12:00, Box 320, podziemia Hali ŁukowejProwadzenie: Olga ObstPoznajcie Olgę Obst - artystkę, edukatorkę i pasjonatkę pracy z......
URL:https://app.evenea.pl/event/zawieszki/
PRIORITY:1
CLASS:PUBLIC
END:VEVENT
END:VCALENDAR
