BEGIN:VCALENDAR
VERSION:2.0
METHOD:PUBLISH
BEGIN:VEVENT
DTSTART:20240920T080000
DTEND:20240920T100000
LOCATION: Ul. Rybna  Kraków
TRANSP: OPAQUE
SEQUENCE:0
UID:
DTSTAMP:20260423T004404Z
SUMMARY:Rozzieleńmy się! - Zbieranie śmieci
DESCRIPTION:Zbieranie śmieci Zapraszamy do uczestnictwa w akcji zbierania śmieci 20.09.2024 8:00 na terenie od ul. Rybnej do ul. Wodociągowej. Na miejscu czekają na Was rękawiczki jednorazowe i worki na......
URL:https://app.evenea.pl/event/zbieramysmieci/
PRIORITY:1
CLASS:PUBLIC
END:VEVENT
END:VCALENDAR
