BEGIN:VCALENDAR
VERSION:2.0
METHOD:PUBLISH
BEGIN:VEVENT
DTSTART:20200205T090000
DTEND:20200207T170000
LOCATION:Golden Floor Airport 17. Stycznia 45B  Warszawa
TRANSP: OPAQUE
SEQUENCE:0
UID:
DTSTAMP:20260423T170927Z
SUMMARY:Zbieranie wymagań i współpraca z klientem (edycja 6.)
DESCRIPTION:Witaj,Nazywam się Michał Bartyzel, być może znasz mnie jako autora książki "Oprogramowanie szyte na miarę. Jak rozmawiać z klientem, który nie wie, czego chce?", z bloga......
URL:https://app.evenea.pl/event/zbieranie-wymagan-z-bartyzelem/
PRIORITY:1
CLASS:PUBLIC
END:VEVENT
END:VCALENDAR
