BEGIN:VCALENDAR
VERSION:2.0
METHOD:PUBLISH
BEGIN:VEVENT
DTSTART:20250616T190000
DTEND:20250616T220000
LOCATION:Outriders Klub Rokosowska 8  Warszawa
TRANSP: OPAQUE
SEQUENCE:0
UID:
DTSTAMP:20260426T011207Z
SUMMARY:Zbliżenie - pokazy filmów krótkometrażowych i spotkania z twórcami - Klub Outriders x Studio Munka
DESCRIPTION:"Zbliżenie" — cykl filmowy Outriders organizowany we współpracy ze Studiem Munka.Na każde spotkanie zapraszamy dwójkę reżyserów/ek filmów krótkometrażowych. Naprzemiennie pokazujemy......
URL:https://app.evenea.pl/event/zblizenieorklub/
PRIORITY:1
CLASS:PUBLIC
END:VEVENT
END:VCALENDAR
