BEGIN:VCALENDAR
VERSION:2.0
METHOD:PUBLISH
BEGIN:VEVENT
DTSTART:20210811T180000
DTEND:20210811T180000
LOCATION:Filia nr 7 Miejskiej Biblioteki Publicznej w Szczecinie pl. Matki Teresy z Kalkuty 8  Szczecin
TRANSP: OPAQUE
SEQUENCE:0
UID:
DTSTAMP:20260419T150011Z
SUMMARY:Zbrodnie bez ciał. Promocja książki
DESCRIPTION:11 sierpnia (środa) o godz. 18.00 zapraszamy na spotkanie z Dianą Brzezińską i Andrzejem Gawlińskim promujące ich książkę "Zbrodnie bez ciał". Prowadzenie: Krzysztof Lichtblau. Wydarzenie......
URL:https://app.evenea.pl/event/zbrodniebezcial/
PRIORITY:1
CLASS:PUBLIC
END:VEVENT
END:VCALENDAR
