BEGIN:VCALENDAR
VERSION:2.0
METHOD:PUBLISH
BEGIN:VEVENT
DTSTART:20250928T120000
DTEND:20250928T140000
LOCATION:ZODIAK Warszawski Pawilon Architektury Pasaż Stefana Wiecheckiego "Wiecha" 4  Warszawa
TRANSP: OPAQUE
SEQUENCE:0
UID:
DTSTAMP:20260422T133429Z
SUMMARY:Zbudujmy zielone osiedle | warsztaty
DESCRIPTION:Warsztaty "Zbudujmy zielone osiedle" przeznaczone są dla osób w każdym wieku."W poszukiwaniu (…) dróg poprawy mikrośrodowiska mieszkalnego, (…), należy brać pod uwagę, że (…)......
URL:https://app.evenea.pl/event/zbudujmyzieloneosiedle/
PRIORITY:1
CLASS:PUBLIC
END:VEVENT
END:VCALENDAR
