BEGIN:VCALENDAR
VERSION:2.0
METHOD:PUBLISH
BEGIN:VEVENT
DTSTART:20200415T170000
DTEND:20200415T200000
LOCATION:inQUBE Uniwersytecki Inkubator Przedsiębiorczośći Wielka 67  Wroclaw
TRANSP: OPAQUE
SEQUENCE:0
UID:
DTSTAMP:20260420T124634Z
SUMMARY:Wordpress bez tajemnic - zbuduj pierwszą stronę www
DESCRIPTION:Zbuduj pierwszą stronę www. Ekspert, krok po kroku, wytłumaczy Ci podczas kursu on-line, jak postawić stronę od podstaw lub stworzyć internetową wizytówkę. Nie musisz szperać w......
URL:https://app.evenea.pl/event/zbudujswojastrone/
PRIORITY:1
CLASS:PUBLIC
END:VEVENT
END:VCALENDAR
