BEGIN:VCALENDAR
VERSION:2.0
METHOD:PUBLISH
BEGIN:VEVENT
DTSTART:20241116T090000
DTEND:20241116T140000
LOCATION:Atrium Parku Naukowo-Technologicznego w Opolu Technologiczna 2  Opole
TRANSP: OPAQUE
SEQUENCE:0
UID:
DTSTAMP:20260421T015038Z
SUMMARY:Konferencja Zdrowe ciało - zdrowa głowa
DESCRIPTION:Edukacja, podnoszenie świadomości, promowanie profilaktyki.To wszystko będzie miało miejsce na konferencji 𝗞𝗼𝗻𝗳𝗲𝗿𝗲𝗻𝗰𝗷𝗮 𝗭𝗱𝗿𝗼𝘄𝗲......
URL:https://app.evenea.pl/event/zdrowe-cialo-zdrowa-glowa/
PRIORITY:1
CLASS:PUBLIC
END:VEVENT
END:VCALENDAR
