BEGIN:VCALENDAR
VERSION:2.0
METHOD:PUBLISH
BEGIN:VEVENT
DTSTART:20231108T180000
DTEND:20231108T180000
LOCATION:Requem Records Krakowskie Przedmieście 64  00-322 Warszawa
TRANSP: OPAQUE
SEQUENCE:0
UID:
DTSTAMP:20260420T141019Z
SUMMARY:Żegnam cię, mój świecie wesoły  warsztaty tworzenia pieśni pogrzebowej
DESCRIPTION:Warsztaty "Żegnam cię, mój świecie wesoły warsztaty tworzenia pieśni pogrzebowej"w ramach I Festiwalu RymkiewiczowskiegoPrzyjrzymy się jednej z najbardziej znanych w tradycji pieśni......
URL:https://app.evenea.pl/event/zegnamcie/
PRIORITY:1
CLASS:PUBLIC
END:VEVENT
END:VCALENDAR
