BEGIN:VCALENDAR
VERSION:2.0
METHOD:PUBLISH
BEGIN:VEVENT
DTSTART:20231214T100000
DTEND:20231214T130000
LOCATION:szkolenie online   
TRANSP: OPAQUE
SEQUENCE:0
UID:
DTSTAMP:20260422T004835Z
SUMMARY:Zezwolenia na sprzedaż napojów alkoholowych
DESCRIPTION:Poznań Biznes Partner zaprasza na bezpłatne szkolenie online pt. Zezwolenia na sprzedaż napojów alkoholowych.Termin: 14 grudnia 2023 r. w godz. 10:00-13:00 Zakres szkolenia: rodzaje zezwoleń......
URL:https://app.evenea.pl/event/zezwoleniaump/
PRIORITY:1
CLASS:PUBLIC
END:VEVENT
END:VCALENDAR
