BEGIN:VCALENDAR
VERSION:2.0
METHOD:PUBLISH
BEGIN:VEVENT
DTSTART:20240515T100000
DTEND:20240515T100000
LOCATION:Wydział Działalności Gospodarczej i Rolnictwa Urzędu Miasta Poznania ul. 28 Czerwca 1956 r.  Poznań
TRANSP: OPAQUE
SEQUENCE:0
UID:
DTSTAMP:20260421T232317Z
SUMMARY:Zezwolenia na sprzedaż napojów alkoholowych
DESCRIPTION:Poznań Biznes Partner zaprasza na bezpłatne szkolenie stacjonarne pt. Zezwolenia na sprzedaż napojów alkoholowych.Termin: 15 maja 2024 r. w godz. 10:00-13:00 Zakres szkolenia: rodzaje zezwoleń......
URL:https://app.evenea.pl/event/zezwoleniawdgr/
PRIORITY:1
CLASS:PUBLIC
END:VEVENT
END:VCALENDAR
