BEGIN:VCALENDAR
VERSION:2.0
METHOD:PUBLISH
BEGIN:VEVENT
DTSTART:20220328T120000
DTEND:20220331T140000
LOCATION:Sky Club - Olivia Tower, Olivia Business Centre al. Grunwaldzka 472  Gdańsk
TRANSP: OPAQUE
SEQUENCE:0
UID:
DTSTAMP:20260421T064124Z
SUMMARY:Debata Zielona Transformacja - wyzwania dla biznesu
DESCRIPTION:ZIELONA TRANSFORMACJA - WYZWANIA DLA BIZNESUWyzwania czasu a docelowy model zeroemisyjności - co to właściwie oznacza w praktyce? Jakie są koszy transformacji, kto je poniesie i czy biznes ma......
URL:https://app.evenea.pl/event/zielona-transformacja/
PRIORITY:1
CLASS:PUBLIC
END:VEVENT
END:VCALENDAR
