BEGIN:VCALENDAR
VERSION:2.0
METHOD:PUBLISH
BEGIN:VEVENT
DTSTART:20220924T120000
DTEND:20220924T140000
LOCATION:PLAC TARGOWY PRZY HALI RYBNEJ (od strony ul Wójta Radtkego) Wójta Radtkego 36  Gdynia
TRANSP: OPAQUE
SEQUENCE:0
UID:
DTSTAMP:20260419T145938Z
SUMMARY:Święto Hal Targowych w Gdyni// Ekologiczny mus czyszczący w słoiczkach z drugiego obiegu/24.09 24 Września 2022, 12:00-14:00 (Sobota)
DESCRIPTION:Zapraszamy na spotkanie z Ziemiosferą w ramach ekonostalgicznego Święta Hal Targowych w Gdyni!Start: 12.00- 14.00, PLAC TARGOWY PRZY HALI RYBNEJ (od strony ul Wójta Radtkego)Prowadzenie:......
URL:https://app.evenea.pl/event/ziemiosfera/
PRIORITY:1
CLASS:PUBLIC
END:VEVENT
END:VCALENDAR
