BEGIN:VCALENDAR
VERSION:2.0
METHOD:PUBLISH
BEGIN:VEVENT
DTSTART:20201112T170000
DTEND:20201112T170000
LOCATION:   
TRANSP: OPAQUE
SEQUENCE:0
UID:
DTSTAMP:20260425T175613Z
SUMMARY:Pokaż dokument - pokaz filmu "Zjadanie zwierząt"
DESCRIPTION:Dom Filmowy i Laboratorium Innowacji Społecznych w Gdyni zapraszają na:pokaz filmu "Zjadanie zwierząt", reż. Christopher Dillon Quinnrozmowę online z Rahelą - działaczką na rzecz jedzenia......
URL:https://app.evenea.pl/event/zjadaniezwierzat/
PRIORITY:1
CLASS:PUBLIC
END:VEVENT
END:VCALENDAR
