BEGIN:VCALENDAR
VERSION:2.0
METHOD:PUBLISH
BEGIN:VEVENT
DTSTART:20200128T170000
DTEND:20200128T193000
LOCATION:Dąbrowski Inkubator Przedsiębiorczości 3 maja 22  Dąbrowa Górnicza
TRANSP: OPAQUE
SEQUENCE:0
UID:
DTSTAMP:20260424T160420Z
SUMMARY:Zagłębie Kobiet Przedsiębiorczych - Mapa marzeń i celów
DESCRIPTION:Zapraszamy na styczniowe spotkanie Zagłębia Kobiet Przedsiębiorczych w formie warsztatowej!Zatrzymaj się, zobacz swoje marzenia i rusz je zrealizować, czyli kreatywne spotkanie w Dąbrowskim......
URL:https://app.evenea.pl/event/zkp7/
PRIORITY:1
CLASS:PUBLIC
END:VEVENT
END:VCALENDAR
