BEGIN:VCALENDAR
VERSION:2.0
METHOD:PUBLISH
BEGIN:VEVENT
DTSTART:20250828T170000
DTEND:20250828T190000
LOCATION:Kawiarnia Coffee City ul. Kościuszki 24  Dąbrowa Górnicza
TRANSP: OPAQUE
SEQUENCE:0
UID:
DTSTAMP:20260419T235222Z
SUMMARY:28.08 Zagłębie Kobiet Przedsiębiorczych przy kawie - Kawiarnia Coffee City
DESCRIPTION:28 sierpnia, w czwartek, zapraszamy Przedsiębiorcze Kobiety ze Śląska i z Zagłębia na kolejne spotkanie w ramach Zagłębia Kobiet Przedsiębiorczych!Nasze spotkania "przy kawie" to jak zawsze......
URL:https://app.evenea.pl/event/zkpsierpien2025/
PRIORITY:1
CLASS:PUBLIC
END:VEVENT
END:VCALENDAR
