BEGIN:VCALENDAR
VERSION:2.0
METHOD:PUBLISH
BEGIN:VEVENT
DTSTART:20201215T110000
DTEND:20201215T120000
LOCATION:link do transmisji zostanie przesłany do uczestników w wiadomości potwierdzającej rejestrację   
TRANSP: OPAQUE
SEQUENCE:0
UID:
DTSTAMP:20260419T223209Z
SUMMARY:Webinar TLA - Zmiany w podatkach 2021 r.
DESCRIPTION:Zapraszamy na webinarium Kancelarii TLATemat spotkania:Zmiany w podatkach 2021 r.Zagadnienia, które omówimy podczas webinarium:Strategia\n\n podatkowa - duża zmiana, o której nadal cicho\n\n......
URL:https://app.evenea.pl/event/zmianywpodatkach2021/
PRIORITY:1
CLASS:PUBLIC
END:VEVENT
END:VCALENDAR
