BEGIN:VCALENDAR
VERSION:2.0
METHOD:PUBLISH
BEGIN:VEVENT
DTSTART:20251127T100000
DTEND:20251127T100000
LOCATION:Uniwersytet WSB Merito ul. Augustyna Kośnego 72  45-372 Opole
TRANSP: OPAQUE
SEQUENCE:0
UID:
DTSTAMP:20260423T194838Z
SUMMARY:Wydarzenie wojewódzkie #ParentsANDTeachersCAMP / Wspólnie porozmawiamy o tym, jak wspierać zdrowie psychiczne dzieci i młodzieży
DESCRIPTION:Zapraszamy rodziców, nauczycieli, psychologów i pedagogów szkolnych oraz profesjonalistów pracujących z dziećmi i młodzieżą do udziału w wyjątkowym wydarzeniu ramach programu......
URL:https://app.evenea.pl/event/zobaczemocje-opole/
PRIORITY:1
CLASS:PUBLIC
END:VEVENT
END:VCALENDAR
