BEGIN:VCALENDAR
VERSION:2.0
METHOD:PUBLISH
BEGIN:VEVENT
DTSTART:20240522T170000
DTEND:20240522T190000
LOCATION:Żorskie Centrum Organizacji Pozarządowych os. Sikorskiego 52, sala 103  Żory
TRANSP: OPAQUE
SEQUENCE:0
UID:
DTSTAMP:20260424T140401Z
SUMMARY:Spotkanie dla żorskich organizacji pozarządowych
DESCRIPTION:Przedstawienie oferty Ośrodka Wsparcia Ekonomii Społecznej dla organizacji pozarządowych oraz networking w praktyce - tak pokrótce wygląda plan spotkania, które odbędzie się 22 maja w......
URL:https://app.evenea.pl/event/zory-dla-ngo/
PRIORITY:1
CLASS:PUBLIC
END:VEVENT
END:VCALENDAR
