BEGIN:VCALENDAR
VERSION:2.0
METHOD:PUBLISH
BEGIN:VEVENT
DTSTART:20200224T180000
DTEND:20200224T193000
LOCATION:Wyższa Szkoła Ekonomii i Informatyki - Budynek Administracyjny - Strefa Coworkingu Św. Filipa 17  Kraków
TRANSP: OPAQUE
SEQUENCE:0
UID:
DTSTAMP:20260422T161035Z
SUMMARY:Zostań testerem i wystartuj swoją karierę w IT - spotkanie informacyjne w Krakowie.
DESCRIPTION:\n\n	\n\n...
URL:https://app.evenea.pl/event/zostan-testerem-broad-minds-krkt07/
PRIORITY:1
CLASS:PUBLIC
END:VEVENT
END:VCALENDAR
