BEGIN:VCALENDAR
VERSION:2.0
METHOD:PUBLISH
BEGIN:VEVENT
DTSTART:20191015T180000
DTEND:20191015T193000
LOCATION:Centrum Aleje Al. Jerozolimskie 49  Warszawa
TRANSP: OPAQUE
SEQUENCE:0
UID:
DTSTAMP:20260422T060600Z
SUMMARY:Zostań testerem i wystartuj swoją karierę w IT - spotkanie informacyjne w Warszawie.
DESCRIPTION:\n\n	\n\n...
URL:https://app.evenea.pl/event/zostan-testerem-broad-minds-wawt05/
PRIORITY:1
CLASS:PUBLIC
END:VEVENT
END:VCALENDAR
