BEGIN:VCALENDAR
VERSION:2.0
METHOD:PUBLISH
BEGIN:VEVENT
DTSTART:20240610T100000
DTEND:20240610T150000
LOCATION:Urząd Marszałkowski Województwa Pomorskiego, Sala Polskie Niebo ul. Augustyńskiego 1  Gdańsk
TRANSP: OPAQUE
SEQUENCE:0
UID:
DTSTAMP:20260424T120649Z
SUMMARY:ZROZUMIEĆ TURCJĘ. Szanse i wyzwania dla przedsiębiorców.
DESCRIPTION:Samorząd Województwa Pomorskiego wraz z partnerskimi miastami Gdańskiem, Gdynią i Sopotem zapraszają na seminarium gospodarcze "ZROZUMIEĆ TURCJĘ. Szanse i wyzwania dla......
URL:https://app.evenea.pl/event/zrozumiecturcje/
PRIORITY:1
CLASS:PUBLIC
END:VEVENT
END:VCALENDAR
