BEGIN:VCALENDAR
VERSION:2.0
METHOD:PUBLISH
BEGIN:VEVENT
DTSTART:20220602T170000
DTEND:20220602T170000
LOCATION:Park Naukowo-Technologiczny Polska-Wschód w Suwałkach Innowacyjna 1  16-400 Suwałki
TRANSP: OPAQUE
SEQUENCE:0
UID:
DTSTAMP:20260421T173445Z
SUMMARY:Pewne inwestycje na niepewne czasy
DESCRIPTION:Park Naukowo-Technologiczny Polska-Wschód w Suwałkach wraz z Izbą Przemysłowo-Gospodarczą w Suwałkach zapraszają na otwarte spotkanie pn. "Pewne inwestycje na niepewne czasy", które......
URL:https://app.evenea.pl/event/zuber/
PRIORITY:1
CLASS:PUBLIC
END:VEVENT
END:VCALENDAR
